BEGIN:VCALENDAR
VERSION:2.0
PRODID:-//Lápiz Viajero - ECPv6.10.2//NONSGML v1.0//EN
CALSCALE:GREGORIAN
METHOD:PUBLISH
X-WR-CALNAME:Lápiz Viajero
X-ORIGINAL-URL:https://lapizviajero.com
X-WR-CALDESC:Eventos para Lápiz Viajero
REFRESH-INTERVAL;VALUE=DURATION:PT1H
X-Robots-Tag:noindex
X-PUBLISHED-TTL:PT1H
BEGIN:VTIMEZONE
TZID:America/New_York
BEGIN:DAYLIGHT
TZOFFSETFROM:-0500
TZOFFSETTO:-0400
TZNAME:EDT
DTSTART:20240310T070000
END:DAYLIGHT
BEGIN:STANDARD
TZOFFSETFROM:-0400
TZOFFSETTO:-0500
TZNAME:EST
DTSTART:20241103T060000
END:STANDARD
END:VTIMEZONE
BEGIN:VEVENT
DTSTART;TZID=America/New_York:20240504T120000
DTEND;TZID=America/New_York:20240504T170000
DTSTAMP:20260421T050045
CREATED:20240424T230717Z
LAST-MODIFIED:20240424T231426Z
UID:3061-1714824000-1714842000@lapizviajero.com
SUMMARY:Volver a lo esencial: aprendizajes de la naturaleza para la mente y desempeño de un deportista
DESCRIPTION:Nuestra mente\, como el mono que salta sin parar de rama en rama\, va también\, sin descanso\, de una cosa a otra. Los pensamientos siguen millones de caminos diferentes que de­sembocan siempre en el olvido. Nuestra mente\, por lo general está donde no debe estar. Sucede en los viajes\, sucede en el deporte\, sucede en la vida: anhelamos llegar de inmediato a algún lugar (a la cima\, al primer puesto). No vemos la hora de cruzar el camino difícil y solo caminar por terreno plano\, por terreno conocido. No recordamos detalles del camino transitado por estar concentrados en nuestros pensamientos y en nuestra necesidad de ‘alcanzar algo’. \nLa invitación para este fin de semana es permitir que nuestro viaje y nuestro caminar se torne meditativo\, que los pasos que den nuestros pies sean plenamente conscientes\, y nuestra respiración se acompase a nuestro paso y veremos así\, cómo nuestra mente se apacigua naturalmente\, cómo nos conectamos con nosotros mismos y logremos así\, volver a la cotidianidad mucho más recargados y motivados. \nVamos a disfrutar este día de todos y cada uno de nuestros pasos\, de nuestro presente\, de nuestro ser en compañía de la naturaleza. \n¿Y por qué una experiencia en la naturaleza para deportistas? \nVarios estudios científicos han demostrado que las experiencias en la naturaleza pueden beneficiar el bienestar psicológico y físico de las personas. Pasear por el bosque\, bañarse en una cascada o tumbarse sobre la hierba a ver el vuelo de los pájaros tiene un efecto terapéutico\, y es que los espacios naturales conceden increíbles oportunidades para recuperarse de la fatiga mental y conectarse de una forma distinta con nuestro entorno y nuestra realidad. \nAprenderemos enseñanzas muy valiosas a través de diferentes herramientas y actividades que gracias a la naturaleza podremos entender mejor para nuestra vida como personas y deportistas. \n\nInversión para atletas del CH program: $45.000\n\n¿Qué incluye? \n\nZona de camping privada\nDesayuno\nAlmuerzo\nSeguro de asistencia médica\nGuianza en montaña\nActividades de conexión tales como: meditación\, yoga\, charlas de profundización\, senderismo meditativo y escritura terapéutica (incluye materiales)\n\n¿Qué no incluye? \n\nTransporte ida y regreso\nCena día sábado y snacks\nGastos en carretera\n\n📍Itinerario: \n1️⃣ SÁBADO \n\nSalida desde Medellín al medio día sábado (12:00)\nLlegada a corregimiento de Montebello y parqueo de vehículos (1:20pm)\nInicio caminata a nuestra zona de camping (1:40pm) Llegada (3:00pm)\nHidratación en finca e inicio de mini senderismo para armar equipo\nCharla de introductoria\nCena preparada por todos (charla de trabajo en equipo)\nEspacio de escritura terapéutica y meditación\n\n2️⃣ DOMINGO \n\nDespertar al amanecer para meditación y sesión de yoga (5:00am)\nDesayuno\nEspacio para charla\nSenderismo meditativo a la cascada\nSesión de respiración consciente para ingresar a la cascada o charco\nRegreso campamento\nAlmuerzo\nTiempo libre\nRegreso a punto de inicio 2:00pm (el parqueo) y retorno a Medellín.\n\n💼 ¿Qué llevar? \n\nRopa para caminar frescos\nRopa para el frío\nElementos de camping (carpa\, sleeping\, aislante)\nImplementos para la cena\nimplementos de aseo personal\nvestido de baño\nmat de yoga (o colchoneta) y cojin de meditación\nMedicamentos personales\nSnacks para picar\n\n  \n \n  \n📲Reservas: \nPara reservar tu cupo\, puedes hacer el depósito del 50% y cancelar el restante máximo 3 días antes de la salida. \n1.Escribe al +57 3195763832 ( https://wa.me/573195763832))  preguntando si aún hay cupos disponibles para la fecha seleccionada. \n2.Realizar la transferencia del dinero a la cuenta que se indicará por WhatsApp. \n3.Enviar comprobantes y datos personales para su inscripción. \n\nPolíticas de cancelación y devoluciones de dinero para eventos con Lápiz Viajero: \n•Si usted notifica su cancelación con 96 horas (4 días de anticipación) se le podrá devolver el 60% del dinero abonado. Debe ser con este tiempo de anticipación para poder dejar a disposición su cupo a otra persona. \n•Si cancela el día anterior o el mismo día de la salida NO se realizará devolución del dinero. \n•Se devolverá el 100% del valor abonado en caso de que la actividad sea cancelada por parte de Lápiz Viajero por causas ajenas\, graves y/o personales. \n\n📲 Datos de contacto: \nCelular: +57 3195763832 https://wa.me/573195763832 \nCorreo: contacto@lapizviajero.com \nAlgunas fotos de nuestro evento: \n \n \n \n \n 
URL:https://lapizviajero.com/event/ch-program/
END:VEVENT
END:VCALENDAR