BEGIN:VCALENDAR
VERSION:2.0
PRODID:-//Lápiz Viajero - ECPv6.10.2//NONSGML v1.0//EN
CALSCALE:GREGORIAN
METHOD:PUBLISH
X-ORIGINAL-URL:https://lapizviajero.com
X-WR-CALDESC:Eventos para Lápiz Viajero
REFRESH-INTERVAL;VALUE=DURATION:PT1H
X-Robots-Tag:noindex
X-PUBLISHED-TTL:PT1H
BEGIN:VTIMEZONE
TZID:America/New_York
BEGIN:DAYLIGHT
TZOFFSETFROM:-0500
TZOFFSETTO:-0400
TZNAME:EDT
DTSTART:20230312T070000
END:DAYLIGHT
BEGIN:STANDARD
TZOFFSETFROM:-0400
TZOFFSETTO:-0500
TZNAME:EST
DTSTART:20231105T060000
END:STANDARD
END:VTIMEZONE
BEGIN:VEVENT
DTSTART;VALUE=DATE:20230129
DTEND;VALUE=DATE:20230130
DTSTAMP:20260422T145721
CREATED:20230117T212039Z
LAST-MODIFIED:20230117T212039Z
UID:2964-1674950400-1675036799@lapizviajero.com
SUMMARY:Charco el Guamo en Santo Domingo
DESCRIPTION:Bienvenidos viajeros a una ruta muy especial llena de buena compañía\, con una caminata apta para todos\, buena comida y lo mejor de todo\, unos charcos para bañarnos y disfrutar del día. \nNuestro destino será entonces el Charco el Guamo en el municipio de Santo Domingo\, especificamente en el corregimiento de Botero\, a solo hora y media de Medellín. \nEmpezaremos con un senderismo de aproximadamente 50 minutos por carretera destapada y potreros donde tendremos una increíble vista del corregimiento y las zonas rurales aledañas. Llegaremos al charco y allí podremos descansar un buen rato\, bañarnos\, nadar\, comer y tirarnos por un lisadero natural del mismo charco. Ya en la tarde tomaremos otro camino por montaña de regreso que nos tomará 1 hora aproximadamente para llegar al lugar donde nos estará esperando de nuevo nuestra buseta. \nUn plan totalmente recomendado para aquellos que quieren salir a la naturaleza pero en plan tranqui\, disfrutando la riqueza hídrica que hay en nuestro departamento. \n¡Los esperamos a todos!🌞 \n📍Ficha técnica \nGrado de dificultad: 3 (en una escala de 1-5 siendo 1 de menor dificultad y 5 mayor exigencia) \nDistancia: 9 Kms \nDuración: 8 horas aproximadamente con desplazamientos\, descansos y tiempos de disfrute en el charco. \n🧳¿Qué necesitas llevar? \n•Ropa cómoda/liviana para caminar \n•Vestido de baño o ropa para mojar (Y de cambio si consideras necesario) \n•Agua (mínimo 1 litro) \n•Zapatos de buen agarre \n•Gorra o sombrero y protector solar \n💸Inversión: $85.000 ¡Todo incluido! \n¿Qué incluye? \n•Transporte privado ida y regreso desde Medellín al corregimiento Botero \n•Acompañamiento y guianza del equipo de Lápiz Viajero \n•Seguro extremo de asistencia médica \n•Almuerzo (Deliciosa bandeja de frijoles recién hecha 🤤) \n•Registro fotográfico \n \n📲Reservas: \n1.Escribe al +57 3195763832 ( https://wa.me/573195763832)  preguntando si aún hay cupos disponibles para el evento deseado. \n2.Realizar la transferencia del dinero a la cuenta que se indicará por WhatsApp. \n3.Enviar comprobantes y datos personales para su inscripción. \n\nPolíticas de cancelación y devoluciones de dinero para eventos con Lápiz Viajero: \n•Si usted notifica su cancelación con 96 horas (4 días de anticipación) se le podrá devolver el 60% del dinero abonado. Debe ser con este tiempo de anticipación para poder dejar a disposición su cupo a otra persona. \n•Si cancela el día anterior o el mismo día de la salida NO se realizará devolución del dinero. \n•No se realizarán devoluciones de dinero\, a menos de tener una calamidad doméstica comprobada hasta 24 horas antes de la salida. Se realizará la devolución del 80% en este caso. Se entiende por calamidad doméstica\, todo suceso familiar cuya gravedad afecte considerablemente el funcionamiento de actividades\, por ejemplo\, fallecimiento\, enfermedad o lesión grave de aquellos parientes hasta cuarto grado de consanguinidad\, segundo de afinidad o primero civil. Deberá notificar el suceso antes del evento\, de lo contrario\, no se realiza la devolución. \n•Se devolverá el 100% del valor abonado en caso de que la actividad sea cancelada por parte de Lápiz Viajero por causas ajenas\, graves y/o personales. \n\n📲 Datos de contacto: \nCelular: +57 3195763832 ( https://wa.me/573195763832) \nCorreo: contacto@lapizviajero.com \nAlgunas fotos de nuestro evento:
URL:https://lapizviajero.com/event/charco-el-guamo-en-santo-domingo/
END:VEVENT
END:VCALENDAR