BEGIN:VCALENDAR
VERSION:2.0
PRODID:-//Lápiz Viajero - ECPv6.10.2//NONSGML v1.0//EN
CALSCALE:GREGORIAN
METHOD:PUBLISH
X-WR-CALNAME:Lápiz Viajero
X-ORIGINAL-URL:https://lapizviajero.com
X-WR-CALDESC:Eventos para Lápiz Viajero
REFRESH-INTERVAL;VALUE=DURATION:PT1H
X-Robots-Tag:noindex
X-PUBLISHED-TTL:PT1H
BEGIN:VTIMEZONE
TZID:America/New_York
BEGIN:DAYLIGHT
TZOFFSETFROM:-0500
TZOFFSETTO:-0400
TZNAME:EDT
DTSTART:20230312T070000
END:DAYLIGHT
BEGIN:STANDARD
TZOFFSETFROM:-0400
TZOFFSETTO:-0500
TZNAME:EST
DTSTART:20231105T060000
END:STANDARD
END:VTIMEZONE
BEGIN:VEVENT
DTSTART;TZID=America/New_York:20231008T080000
DTEND;TZID=America/New_York:20231008T170000
DTSTAMP:20260421T230637
CREATED:20230928T213048Z
LAST-MODIFIED:20230928T213048Z
UID:3034-1696752000-1696784400@lapizviajero.com
SUMMARY:Paso del Toro - El Retiro (ruta privada)
DESCRIPTION:¡Bievenidos viajeros! \n⛰¿En qué consiste nuestra ruta de montaña? \nNuestro recorrido comienza desde el parque principal de El Retiro con un primer destino que es el Cerro de la Cruz. Para llegar hasta allí\, debemos subir por un sendero prehispánico de herradura\, el cual es conocido por los locales como un santuario religioso pues el camino propone el rezo del Santo Viacrucis con sus respectivas estaciones y al llegar\, se encuentra una Cruz en cemento con 6 metros de alto\, construida por 13 personas durante 3 meses. 🌄 Nos puede tomar de 30 a 40 minutos aproximadamente llegar hasta allí\, todo depende del ritmo del grupo. \nLuego\, continuamos nuestro recorrido por un sendero lleno de vegetación y grandes árboles hasta llegar a un hermoso bosque donde podremos tener un descanso y comer algo. Continuamos nuestro camino hasta la quebrada La Agudelo en donde empezamos a caminar por el agua para llegar a una caída conocido como «El Paso del Toro» allí tomaremos un delicioso baño\, nos refrescaremos y disfrutaremos del agua que fría se mueve allí. Es toda una terapia para el cuerpo. \nNos devolvemos por la quebrada hasta encontrar la carretera que nos llevará por diferentes senderos naturales y salir a una vereda cercana al pueblo. \n⚠️Nota: estaremos caminando por la quebrada aproximadamente hora – hora y media para que nos preparemos bien con zapatos de agarre\, caminemos firme y con calma y disfrutemos del agua fría sin preocupación alguna. \n📍Ficha técnica: \n•Clima: templado \n•Distancia aproximada: 10 kms tipo circuito \n•Grado de dificultad: 3.5 en una escala de 1 a 5 siendo 1 fácil y 5 difícil \n•Duración: 6 a 7 horas en total con las paradas. \n\nHora de encuentro: 8:00am \nLugar: Parque principal del municipio El Retiro \n🧳 ¿Qué necesitas llevar? \n•Zapatos de buen agarre \n•Ropa cómoda y deportiva que se pueda mojar (o vestido de baño) \n•Una prenda y un par de zapatos de cambio (opcional) \n•Agua (mínimo 1 litro) \n•Fiambre o almuerzo para el medio día \n•Buso o chaqueta para el frío (lo necesitarán luego de un baño en esas aguas) \n•La mejor energía para un día lleno de aventura y nuevos aprendizajes. \n \nReservas: \n1.Escribe al +57 3195763832 ( https://wa.me/573195763832))  preguntando si aún hay cupos disponibles para la fecha seleccionada. \n2.Realizar la transferencia del dinero a la cuenta que se indicará por WhatsApp. \n3.Enviar comprobantes y datos personales para su inscripción. \n\nPolíticas de cancelación y devoluciones de dinero para eventos con Lápiz Viajero: \n•Si usted notifica su cancelación con 72 horas (3 días de anticipación) se le podrá devolver el 60% del dinero abonado. Debe ser con este tiempo de anticipación para poder dejar a disposición su cupo a otra persona. \n•Si cancela el día anterior o el mismo día de la salida NO se realizará devolución del dinero. \n•No se realizarán devoluciones de dinero\, a menos de tener una calamidad doméstica comprobada hasta 24 horas antes de la salida. Se realizará la devolución del 80% en este caso. Se entiende por calamidad doméstica\, todo suceso familiar cuya gravedad afecte considerablemente el funcionamiento de actividades\, por ejemplo\, fallecimiento\, enfermedad o lesión grave de aquellos parientes hasta cuarto grado de consanguinidad\, segundo de afinidad o primero civil.) Deberá notificar el suceso antes del evento\, de lo contrario\, no se realiza la devolución. \n•Se devolverá el 100% del valor abonado en caso de que la actividad sea cancelada por parte de Lápiz Viajero por causas ajenas\, graves y/o personales. \n\n📲 Datos de contacto: \nCelular: +57 3195763832 ( https://wa.me/573195763832) \nCorreo: contacto@lapizviajero.com \nAlgunas fotos de nuestro evento: \n \n \n \n \n \n  \n \n 
URL:https://lapizviajero.com/event/pasodeltoro/
ATTACH;FMTTYPE=image/jpeg:https://lapizviajero.com/wp-content/uploads/2021/02/paso-del-toro-el-retiro.jpg
END:VEVENT
BEGIN:VEVENT
DTSTART;TZID=America/New_York:20231022T053000
DTEND;TZID=America/New_York:20231022T170000
DTSTAMP:20260421T230637
CREATED:20230724T161738Z
LAST-MODIFIED:20231016T222958Z
UID:2999-1697952600-1697994000@lapizviajero.com
SUMMARY:Caminar en presencia -Senderismo en Titiribí
DESCRIPTION:Nuestra mente\, como el mono que salta sin parar de rama en rama\, va también\, sin descanso\, de una cosa a otra. Los pensamientos siguen millones de caminos diferentes que de­sembocan siempre en el olvido. Nuestra mente\, por lo general está donde no debe estar. Sucede en los viajes\, sucede en la vida: anhelamos llegar a la cascada. No vemos la hora de cruzar el camino difícil y solo caminar por terreno plano. No recordamos detalles del camino transitado por estar concentrados en nuestros pensamientos. \nLa invitación para este día es permitir que nuestro viaje y nuestro caminar se torne meditativo\, que los pasos que den nuestros pies sean plenamente conscientes\, y nuestra respiración se acompase a nuestro paso y veremos así\, cómo nuestra mente se apacigua naturalmente. \nVamos a disfrutar este día de todos y cada uno de nuestros pasos. \nEstamos muy felices de conocer este nuevo municipio juntos. Nos espera entonces Titiribí\, localizado en el suroeste Antioqueño\, antigua capital minera de este departamento. Será un recorrido nivel medio que iniciará en el parque principal del pueblo. Recorreremos la vereda Sitio viejo y Otramina para luego adentrarnos en la naturaleza absoluta y el silencio profundo de la reserva Candelas Taborda. Pasaremos por diferentes caminos prehispánicos\, arroyos\, nacimientos de agua e incluso un lugar mágico con una pequeña cascada en la que podremos bañarnos o simplemente apreciar en completa humildad. \nEs un día definitivamente para desconectarnos y permitir que nuestro caminar\, nos acerque cada vez más a una vida más consciente. ¿Nos acompañas? \nTe esperamos 💓 \n📍Ficha técnica de la ruta en montaña: \n•Ubicación: Municipio de Titiribí\, Antioquia \n•Clima: Templado \n•Distancia aproximada: 12 kms \n•Grado de dificultad: 3.5 en una escala de 1 a 5 siendo 1 fácil y 5 difícil \n•Duración: 8 horas aproximadamente con tiempos de descanso y disfrute. \n👀Atractivos: \n•Parque principal de Titiribí \n•Parroquia Nuestra Señora de Los Dolores \n•Circo Teatro Girardot \n•Vereda Otramina \n•Reserva natural Candelas Taborda \n•Cascada de la quebrada del medio \n•Cascada charco Franá (opcional*) \n⌚Hora de encuentro: 5:45 am. Por favor ser puntuales ya que el bus sale a las 6:00am y el próximo sería una hora después. \nLugar: Taquilla #24 (flota Tratam) de la terminal del sur – Medellín \n⚠NOTA: El transporte lo asume cada viajero. Tiene un costo de $14.000 cada trayecto ($28.000 en total). \n•También está la posibilidad de ir en carro particular (notificar con antelación para saber en dónde los esperamos) \n💸Inversión: $45.000 \nRegalito especial: ¡Si vas con un acompañante los dos pagan $80.000 en total! 💛 \nIncluye: \n•Guianza local del recorrido \n•Acompañamiento del equipo de Lápiz Viajero \n•Seguro de asistecia médica \n•Registro fotográfico del evento \n•Transporte veredal para el regreso y final de la ruta \nImportante: Tenemos ¡CUPOS LIMITADOS! 🙊 No te quedes sin el tuyo y reserva con anterioridad💛 \n🧳 ¿Qué necesitas llevar? \n•Zapatos de buen agarre \n•Ropa cómoda y deportiva que se pueda mojar (o vestido de baño) \n•Una prenda y un par de zapatos de cambio (opcional) \n•Agua (mínimo 1 litro) \n•Buso o chaqueta para el frío \n•Impermeable en caso de lluvia \n•Almuerzo o fiambre \n•Opcional: binoculares (es un santuario para avistamiento de aves) \n•La mejor energía y disposición para compartir y aprender juntos 💛 \n \n  \nProceso de reservas: \n1.Escribe al +57 3195763832 ( https://wa.me/573195763832))  preguntando si aún hay cupos disponibles para la fecha seleccionada. \n2.Realizar la transferencia del dinero a la cuenta que se indicará por WhatsApp. \n3.Enviar comprobantes y datos personales para tu inscripción. \n\nPolíticas de cancelación y devoluciones de dinero para eventos con Lápiz Viajero: \n•Si usted notifica su cancelación con 72 horas (3 días de anticipación) se le podrá devolver el 60% del dinero abonado. Debe ser con este tiempo de anticipación para poder dejar a disposición su cupo a otra persona. \n•Si cancela el día anterior o el mismo día de la salida NO se realizará devolución del dinero. \n•No se realizarán devoluciones de dinero\, a menos de tener una calamidad doméstica comprobada hasta 24 horas antes de la salida. Se realizará la devolución del 80% en este caso. Se entiende por calamidad doméstica\, todo suceso familiar cuya gravedad afecte considerablemente el funcionamiento de actividades\, por ejemplo\, fallecimiento\, enfermedad o lesión grave de aquellos parientes hasta cuarto grado de consanguinidad\, segundo de afinidad o primero civil.) Deberá notificar el suceso antes del evento\, de lo contrario\, no se realiza la devolución. \n•Se devolverá el 100% del valor abonado en caso de que la actividad sea cancelada por parte de Lápiz Viajero por causas ajenas\, graves y/o personales. \n\n📲 Datos de contacto: \nCelular: +57 3195763832 ( https://wa.me/573195763832) \nCorreo: contacto@lapizviajero.com \nAlgunas fotos de nuestro evento: \nFotografía por Anderson Londoño\n \n \n \n \n \n¡Te esperamos!
URL:https://lapizviajero.com/event/titiribi/
ATTACH;FMTTYPE=image/png:https://lapizviajero.com/wp-content/uploads/2023/07/reserva-candela-tabordaa.png
END:VEVENT
END:VCALENDAR